BEGIN:VCALENDAR
VERSION:2.0
PRODID:-//APMP Greater Midwest Chapter - ECPv6.15.20//NONSGML v1.0//EN
CALSCALE:GREGORIAN
METHOD:PUBLISH
X-ORIGINAL-URL:https://gmcapmp.org
X-WR-CALDESC:Events for APMP Greater Midwest Chapter
REFRESH-INTERVAL;VALUE=DURATION:PT1H
X-Robots-Tag:noindex
X-PUBLISHED-TTL:PT1H
BEGIN:VTIMEZONE
TZID:UTC
BEGIN:STANDARD
TZOFFSETFROM:+0000
TZOFFSETTO:+0000
TZNAME:UTC
DTSTART:20250101T000000
END:STANDARD
END:VTIMEZONE
BEGIN:VEVENT
DTSTART;VALUE=DATE:20260805
DTEND;VALUE=DATE:20260807
DTSTAMP:20260424T000021
CREATED:20260126T014837Z
LAST-MODIFIED:20260227T190346Z
UID:1644-1785888000-1786060799@gmcapmp.org
SUMMARY:Event: APMP GMC Symposium 2026
DESCRIPTION:Join us for APMP GMC Symposium 2026 at the beautiful Journeyman Hotel in Milwaukee\, Wisconsin. It’s a two-day learning and networking event you won’t want to miss!
URL:https://gmcapmp.org/event/apmp-gmc-symposium-2026/
CATEGORIES:Conference
ATTACH;FMTTYPE=image/jpeg:https://gmcapmp.org/wp-content/uploads/2026/01/matthew-schultz-5eO3_mq5v_A-unsplash-scaled.jpg
END:VEVENT
END:VCALENDAR