BEGIN:VCALENDAR
VERSION:2.0
PRODID:-//APMP Greater Midwest Chapter - ECPv6.15.20//NONSGML v1.0//EN
CALSCALE:GREGORIAN
METHOD:PUBLISH
X-WR-CALNAME:APMP Greater Midwest Chapter
X-ORIGINAL-URL:https://gmcapmp.org
X-WR-CALDESC:Events for APMP Greater Midwest Chapter
REFRESH-INTERVAL;VALUE=DURATION:PT1H
X-Robots-Tag:noindex
X-PUBLISHED-TTL:PT1H
BEGIN:VTIMEZONE
TZID:America/Chicago
BEGIN:DAYLIGHT
TZOFFSETFROM:-0600
TZOFFSETTO:-0500
TZNAME:CDT
DTSTART:20220313T080000
END:DAYLIGHT
BEGIN:STANDARD
TZOFFSETFROM:-0500
TZOFFSETTO:-0600
TZNAME:CST
DTSTART:20221106T070000
END:STANDARD
BEGIN:DAYLIGHT
TZOFFSETFROM:-0600
TZOFFSETTO:-0500
TZNAME:CDT
DTSTART:20230312T080000
END:DAYLIGHT
BEGIN:STANDARD
TZOFFSETFROM:-0500
TZOFFSETTO:-0600
TZNAME:CST
DTSTART:20231105T070000
END:STANDARD
BEGIN:DAYLIGHT
TZOFFSETFROM:-0600
TZOFFSETTO:-0500
TZNAME:CDT
DTSTART:20240310T080000
END:DAYLIGHT
BEGIN:STANDARD
TZOFFSETFROM:-0500
TZOFFSETTO:-0600
TZNAME:CST
DTSTART:20241103T070000
END:STANDARD
BEGIN:DAYLIGHT
TZOFFSETFROM:-0600
TZOFFSETTO:-0500
TZNAME:CDT
DTSTART:20250309T080000
END:DAYLIGHT
BEGIN:STANDARD
TZOFFSETFROM:-0500
TZOFFSETTO:-0600
TZNAME:CST
DTSTART:20251102T070000
END:STANDARD
BEGIN:DAYLIGHT
TZOFFSETFROM:-0600
TZOFFSETTO:-0500
TZNAME:CDT
DTSTART:20260308T080000
END:DAYLIGHT
BEGIN:STANDARD
TZOFFSETFROM:-0500
TZOFFSETTO:-0600
TZNAME:CST
DTSTART:20261101T070000
END:STANDARD
END:VTIMEZONE
BEGIN:VTIMEZONE
TZID:UTC
BEGIN:STANDARD
TZOFFSETFROM:+0000
TZOFFSETTO:+0000
TZNAME:UTC
DTSTART:20230101T000000
END:STANDARD
END:VTIMEZONE
BEGIN:VTIMEZONE
TZID:America/Indiana/Indianapolis
BEGIN:DAYLIGHT
TZOFFSETFROM:-0500
TZOFFSETTO:-0400
TZNAME:EDT
DTSTART:20230312T070000
END:DAYLIGHT
BEGIN:STANDARD
TZOFFSETFROM:-0400
TZOFFSETTO:-0500
TZNAME:EST
DTSTART:20231105T060000
END:STANDARD
BEGIN:DAYLIGHT
TZOFFSETFROM:-0500
TZOFFSETTO:-0400
TZNAME:EDT
DTSTART:20240310T070000
END:DAYLIGHT
BEGIN:STANDARD
TZOFFSETFROM:-0400
TZOFFSETTO:-0500
TZNAME:EST
DTSTART:20241103T060000
END:STANDARD
BEGIN:DAYLIGHT
TZOFFSETFROM:-0500
TZOFFSETTO:-0400
TZNAME:EDT
DTSTART:20250309T070000
END:DAYLIGHT
BEGIN:STANDARD
TZOFFSETFROM:-0400
TZOFFSETTO:-0500
TZNAME:EST
DTSTART:20251102T060000
END:STANDARD
END:VTIMEZONE
BEGIN:VEVENT
DTSTART;TZID=America/Chicago:20250520T173000
DTEND;TZID=America/Chicago:20250520T193000
DTSTAMP:20260423T171649
CREATED:20250501T172001Z
LAST-MODIFIED:20250519T155006Z
UID:1400-1747762200-1747769400@gmcapmp.org
SUMMARY:SOLD OUT! GMC Happy Hour at BPC
DESCRIPTION:Attending BPC Nashville? We’re hosting a happy hour just for GMC members on Tuesday\, May 20 5:30-7:30 PM. Join us in the Delta Pavilion immediately following the BPC Happy Hour. Tickets are limited so grab yours today! \n5/19 – WE ARE OFFICIALLY SOLD OUT!  \nTICKETS: Click Here \nDelta Pavilion location:
URL:https://gmcapmp.org/event/gmc-happy-hour-at-bpc/
LOCATION:Gaylord Opryland\, 2800 Opryland Dr\, Nashville\, TN\, 37214\, United States
CATEGORIES:Conference,Local Meetup
ATTACH;FMTTYPE=image/png:https://gmcapmp.org/wp-content/uploads/2025/05/Screenshot-2025-04-30-093822.png
ORGANIZER;CN="APMP GMC":MAILTO:info@gmcapmp.org
END:VEVENT
BEGIN:VEVENT
DTSTART;TZID=UTC:20250304T170000
DTEND;TZID=UTC:20250305T163000
DTSTAMP:20260423T171649
CREATED:20240909T163055Z
LAST-MODIFIED:20241008T180447Z
UID:1108-1741107600-1741192200@gmcapmp.org
SUMMARY:2025 Symposium (Kansas City)
DESCRIPTION:Our in-person annual symposium (a chapter-exclusive one-day conference) is back! Join us March 4-5\, 2025 at the super swanky Crossroads Hotel in Kansas City\, Missouri. An evening happy hour will be followed by a full day of keynote speakers and 10 compelling sessions on a range of topics including proposal management best practices\, mental health\, and career development. The complete agenda and early bird tickets will be released soon. Symposium and hotel space is limited. \nTICKETS: Please use the below link to claim your ticket for this event! We are offering a discount for early registration (before December 31). If you are joining us as a speaker or sponsor\, please see the separate email you received with a unique link or discount code.\n\nEarly Bird Rate (before December 31): $250\nRegular Rate (after January 1): $275\nNon-GMC Member Rate: $300\nRegistration: HERE\n\nHOTEL: Guests are responsible for securing and paying for their own rooms. We have negotiated a limited room block and group rate at our venue\, Crossroads Hotel. Please use the below link to access the room block. If rooms are taken\, please call the hotel directly to inquire about availability.\n\n$209/night\nReservations:HERE\n\nAGENDA\nTuesday\, March 4\, 2025\n\n\n\n5:00 – 7:00 PM\nRegistration\nHappy hour and heavy appetizers\n\n\n\nWednesday\, March 5\, 2025\n\n\n\n\n\n7:30 – 8:30 Breakfast\n8:30 – 9:15 Morning Keynote\n9:30 – 12:15 Morning Breakout Sessions\n12:15 – 1:15 Lunch & Networking\n1:30 – 2:15 Afternoon Keynote\n2:30 – 4:15 Afternoon Breakout Sessions\n4:15 – 4:30 Closing Remarks & Prizes
URL:https://gmcapmp.org/event/2025-symposium-kansas-city/
LOCATION:Crossroads Hotel\, 2101 Central Street\, Kansas City\, MO\, 64108\, United States
CATEGORIES:Conference,Local Meetup
ATTACH;FMTTYPE=image/png:https://gmcapmp.org/wp-content/uploads/2024/09/Social_Chapter-Exclusive.png
ORGANIZER;CN="APMP GMC":MAILTO:info@gmcapmp.org
END:VEVENT
BEGIN:VEVENT
DTSTART;TZID=America/Indiana/Indianapolis:20240718T180000
DTEND;TZID=America/Indiana/Indianapolis:20240718T200000
DTSTAMP:20260423T171649
CREATED:20240626T144441Z
LAST-MODIFIED:20240626T144618Z
UID:1065-1721325600-1721332800@gmcapmp.org
SUMMARY:Local Meet Up (Indianapolis)
DESCRIPTION:Enjoy an evening of mix and mingle at District Tap on July 18 from 6-8 PM Eastern. Light appetizers will be provided! Cash bar. \nRegister Here
URL:https://gmcapmp.org/event/local-meet-up-indianapolis/
LOCATION:District Tap\, 3720 E. 82nd Street\, Indianapolis\, IN\, 46240\, United States
CATEGORIES:Local Meetup
ATTACH;FMTTYPE=image/png:https://gmcapmp.org/wp-content/uploads/2024/06/Screenshot-2024-06-26-103812.png
ORGANIZER;CN="APMP GMC":MAILTO:info@gmcapmp.org
END:VEVENT
BEGIN:VEVENT
DTSTART;TZID=UTC:20240718T163000
DTEND;TZID=UTC:20240718T163000
DTSTAMP:20260423T171649
CREATED:20240625T014751Z
LAST-MODIFIED:20240626T130339Z
UID:1055-1721320200-1721320200@gmcapmp.org
SUMMARY:Local Meetup: Kansas City Summer Social
DESCRIPTION:Join us for an evening filled with food\, drinks and excellent networking opportunities! This event will provide a relaxed atmosphere to connect\, share ideas and discover the benefits of joining both the APMP Greater Midwest Chapter and the Society of Marketing Professional Services (SMPS) Kansas City Chapter. \nThis meetup is geared towards proposal and marketing professionals who support the architectural/engineering/construction (AEC) industry\, but all are welcome to attend. Whether you’re new to AEC marketing\, an intern starting your career\, or an experienced professional looking to expand your network\, this event offers something for everyone. The Summer Social is a great chance to learn more about how APMP and SMPS can support your professional growth through access to industry resources\, professional development opportunities and a wealth of networking events. Don’t miss this opportunity to connect with peers and industry leaders\, stay updated on the latest trends and best practices\, and explore the advantages of joining these two premier organizations dedicated to advancing AEC professionals. \nRegistration to be completed via the SMPS Kansas City website.
URL:https://gmcapmp.org/event/local-meetup-kansas-city-summer-social/
LOCATION:Meat Mitch Barbeque\, 3620 W. 95th Street\, Leawood\, KS\, 66206\, United States
CATEGORIES:Local Meetup
ATTACH;FMTTYPE=image/png:https://gmcapmp.org/wp-content/uploads/2024/06/Summer_Social_Newsletter.png
END:VEVENT
BEGIN:VEVENT
DTSTART;TZID=America/Chicago:20240603T170000
DTEND;TZID=America/Chicago:20240603T190000
DTSTAMP:20260423T171649
CREATED:20240517T173727Z
LAST-MODIFIED:20240529T142715Z
UID:1043-1717434000-1717441200@gmcapmp.org
SUMMARY:BPC: Join us for a GMC Members Happy Hour!
DESCRIPTION:Attending BPC NOLA and part of the Greater Midwest Chapter? Join us for this exclusive\, members-only happy hour event. Tickets are limited so reserve yours now! We’ll have drinks and appetizers ready. \nClaim your ticket at EVENT BRITE. \nFor questions\, please reach out to Alexa Ramsey: aramsey@gmcapmp.org | M: 612-978-3922 \nLOCATION: Acme Oyster House | 724 Iberville St\, New Orleans\, LA 70130
URL:https://gmcapmp.org/event/bpc-join-us-for-a-gmc-members-happy-hour/
CATEGORIES:Conference,Local Meetup
ATTACH;FMTTYPE=image/png:https://gmcapmp.org/wp-content/uploads/2024/05/acmeoyster2.png
ORGANIZER;CN="APMP GMC":MAILTO:info@gmcapmp.org
END:VEVENT
BEGIN:VEVENT
DTSTART;TZID=America/Indiana/Indianapolis:20240507T183000
DTEND;TZID=America/Indiana/Indianapolis:20240507T213000
DTSTAMP:20260423T171649
CREATED:20240415T141030Z
LAST-MODIFIED:20240415T141030Z
UID:1031-1715106600-1715117400@gmcapmp.org
SUMMARY:Local Meet Up: Indianapolis (May 7)
DESCRIPTION:Calling all Indianapolis area members! \nJoin us for local meet up on Tuesday\, May 7 beginning at 6:30 PM Eastern. We’ll discuss proposal management and mingle\, followed by team trivia beginning at 7 PM. Appetizers will be covered by GMC. \nFellow GMCer Amber Amores-Villalobos\, CP APMP will be your host. Please RSVP using the link below or reach out to Amber directly at amberamores@gmail.com so we know how many to expect. \nRSVP HERE: https://www.eventbrite.com/e/local-meet-up-indianapolis-may-7-tickets-883307776337?aff=oddtdtcreator
URL:https://gmcapmp.org/event/local-meet-up-indianapolis-may-7/
LOCATION:Britton Tavern\, 14005 Mundy Drive\, Fishers\, IN\, 46038\, United States
CATEGORIES:Local Meetup
ATTACH;FMTTYPE=image/png:https://gmcapmp.org/wp-content/uploads/2024/04/Burger.png
ORGANIZER;CN="APMP GMC":MAILTO:info@gmcapmp.org
END:VEVENT
BEGIN:VEVENT
DTSTART;TZID=America/Indiana/Indianapolis:20240327T180000
DTEND;TZID=America/Indiana/Indianapolis:20240327T210000
DTSTAMP:20260423T171650
CREATED:20240320T210443Z
LAST-MODIFIED:20240320T215053Z
UID:1012-1711562400-1711573200@gmcapmp.org
SUMMARY:Local Meet Up: Indianapolis (March 27)
DESCRIPTION:Calling all Indianapolis members! \nJoin us for local meet up on Wednesday March 27th\, 6-9 pm EDT. From 6-7 we’ll discuss proposal management and mingle\, followed by team trivia from 7-9 PM. Light appetizers will be covered. \nFellow GMCer Amber Amores-Villalobos\, CP APMP will be your host. Please RSVP HERE or reach out to Amber directly at amberamores@gmail.com so we know how many to expect.
URL:https://gmcapmp.org/event/local-meet-up-indianapolis-march-27/
LOCATION:Urban Vines\, 303 E 161st Street\, Westfield\, IN\, 46074\, United States
CATEGORIES:Local Meetup
ATTACH;FMTTYPE=image/png:https://gmcapmp.org/wp-content/uploads/2024/03/Urban-Vines.png
ORGANIZER;CN="APMP GMC":MAILTO:info@gmcapmp.org
END:VEVENT
BEGIN:VEVENT
DTSTART;TZID=America/Indiana/Indianapolis:20240201T180000
DTEND;TZID=America/Indiana/Indianapolis:20240201T200000
DTSTAMP:20260423T171650
CREATED:20240108T153221Z
LAST-MODIFIED:20240108T203135Z
UID:951-1706810400-1706817600@gmcapmp.org
SUMMARY:Local Meet Up: Happy Hour (Indianapolis)
DESCRIPTION:Enjoy an evening of mix and mingle at Memento Zero Proof Lounge on Febuary 1 from 6-8 PM Eastern. Light appetizers will be provided! Cash bar. \nPlease email RSVP to Ashley Campbell (ashley.campbell@macalogic.com) by Tuesday\, January 30.
URL:https://gmcapmp.org/event/local-meet-up-happy-hour-indianapolis/
LOCATION:Memento Zero Proof Lounge\, 8701 E 116th Street #145\, Fishers\, IN\, 46038\, United States
CATEGORIES:Local Meetup
ATTACH;FMTTYPE=image/jpeg:https://gmcapmp.org/wp-content/uploads/2024/01/415778914_18330665497097302_4454843561375948487_n.jpg
ORGANIZER;CN="Teresa Wooster":MAILTO:teresawoosterwriter@gmail.com
END:VEVENT
BEGIN:VEVENT
DTSTART;TZID=America/Chicago:20231106T180000
DTEND;TZID=America/Chicago:20231106T200000
DTSTAMP:20260423T171650
CREATED:20231003T223458Z
LAST-MODIFIED:20231003T223458Z
UID:808-1699293600-1699300800@gmcapmp.org
SUMMARY:Local Meet Up: Milwaukee November 6
DESCRIPTION:Hi GMC members! Join us for our second meet up of 2023. Meet other Milwaukee area members for casual networking and light appetizers. Cash bar. Please RSVP by October 31 to: teresawoosterwriter@gmail.com \nNovember 6\, 2023 | 6-8PM Central Time \nMo’s Irish Pub: 10842 W Bluemound Road\, Wauwatosa\, WI
URL:https://gmcapmp.org/event/local-meet-up-milwaukee-november-6/
LOCATION:Mo’s Irish Pub\, 10842 W Bluemound Road\, Wauwatosa\, WI\, 53226\, United States
CATEGORIES:Local Meetup
ATTACH;FMTTYPE=image/png:https://gmcapmp.org/wp-content/uploads/2023/10/Restaurant.png
ORGANIZER;CN="Teresa Wooster":MAILTO:teresawoosterwriter@gmail.com
END:VEVENT
END:VCALENDAR