BEGIN:VCALENDAR
VERSION:2.0
PRODID:-//APMP Greater Midwest Chapter - ECPv6.15.20//NONSGML v1.0//EN
CALSCALE:GREGORIAN
METHOD:PUBLISH
X-WR-CALNAME:APMP Greater Midwest Chapter
X-ORIGINAL-URL:https://gmcapmp.org
X-WR-CALDESC:Events for APMP Greater Midwest Chapter
REFRESH-INTERVAL;VALUE=DURATION:PT1H
X-Robots-Tag:noindex
X-PUBLISHED-TTL:PT1H
BEGIN:VTIMEZONE
TZID:UTC
BEGIN:STANDARD
TZOFFSETFROM:+0000
TZOFFSETTO:+0000
TZNAME:UTC
DTSTART:20220101T000000
END:STANDARD
END:VTIMEZONE
BEGIN:VTIMEZONE
TZID:America/Chicago
BEGIN:DAYLIGHT
TZOFFSETFROM:-0600
TZOFFSETTO:-0500
TZNAME:CDT
DTSTART:20220313T080000
END:DAYLIGHT
BEGIN:STANDARD
TZOFFSETFROM:-0500
TZOFFSETTO:-0600
TZNAME:CST
DTSTART:20221106T070000
END:STANDARD
BEGIN:DAYLIGHT
TZOFFSETFROM:-0600
TZOFFSETTO:-0500
TZNAME:CDT
DTSTART:20230312T080000
END:DAYLIGHT
BEGIN:STANDARD
TZOFFSETFROM:-0500
TZOFFSETTO:-0600
TZNAME:CST
DTSTART:20231105T070000
END:STANDARD
BEGIN:DAYLIGHT
TZOFFSETFROM:-0600
TZOFFSETTO:-0500
TZNAME:CDT
DTSTART:20240310T080000
END:DAYLIGHT
BEGIN:STANDARD
TZOFFSETFROM:-0500
TZOFFSETTO:-0600
TZNAME:CST
DTSTART:20241103T070000
END:STANDARD
BEGIN:DAYLIGHT
TZOFFSETFROM:-0600
TZOFFSETTO:-0500
TZNAME:CDT
DTSTART:20250309T080000
END:DAYLIGHT
BEGIN:STANDARD
TZOFFSETFROM:-0500
TZOFFSETTO:-0600
TZNAME:CST
DTSTART:20251102T070000
END:STANDARD
BEGIN:DAYLIGHT
TZOFFSETFROM:-0600
TZOFFSETTO:-0500
TZNAME:CDT
DTSTART:20260308T080000
END:DAYLIGHT
BEGIN:STANDARD
TZOFFSETFROM:-0500
TZOFFSETTO:-0600
TZNAME:CST
DTSTART:20261101T070000
END:STANDARD
END:VTIMEZONE
BEGIN:VEVENT
DTSTART;TZID=UTC:20260311T140000
DTEND;TZID=UTC:20260311T150000
DTSTAMP:20260423T171837
CREATED:20260126T010148Z
LAST-MODIFIED:20260227T190344Z
UID:1620-1773237600-1773241200@gmcapmp.org
SUMMARY:Webinar: Quarterly Member Benefits & Program Overview:
DESCRIPTION:Join us for our quarterly GMC Member Benefits and Program Overview. You’ll hear about the latest APMP happenings and meet the incoming 2026 GMC Board of Directors. \nThis is a great opportunity to learn about upcoming chapter initiatives and how you can get involved! \nRegistration is available here.
URL:https://gmcapmp.org/event/quarterly-member-benefits-program-overview-coming-soon/
CATEGORIES:New Member Welcome
ATTACH;FMTTYPE=image/png:https://gmcapmp.org/wp-content/uploads/2023/11/Screenshot-2023-11-03-111309.png
END:VEVENT
BEGIN:VEVENT
DTSTART;TZID=America/Chicago:20250911T140000
DTEND;TZID=America/Chicago:20250911T150000
DTSTAMP:20260423T171837
CREATED:20250606T175041Z
LAST-MODIFIED:20250606T175041Z
UID:1445-1757599200-1757602800@gmcapmp.org
SUMMARY:APMP GMC Member Benefits & Program Overview (September 2025)
DESCRIPTION:Calling all members (new and existing members)! The Greater Midwest Chapter is hosting this opportunity to share valuable information about APMP and our Chapter resources and tools available to you. Register for the webinar and join us to access industry best practices\, learn how you can get involved in our chapter\, and gain support from local members through our programs. \nDate & Time: Thursday\, September 11\, 2:00 PM – 3:00 PM (CST) \nRegistration link: https://events.teams.microsoft.com/event/2da38a92-8934-4eaa-b6ad-46f5bb03693e@7fd3c9b6-8fa4-4ae6-af15-e58bc06ede71 \nWe look forward to your attendance!
URL:https://gmcapmp.org/event/apmp-gmc-member-benefits-program-overview-september-2025/
CATEGORIES:New Member Welcome
ATTACH;FMTTYPE=image/png:https://gmcapmp.org/wp-content/uploads/2023/08/APMP-GMC-Images.png
END:VEVENT
BEGIN:VEVENT
DTSTART;TZID=America/Chicago:20250611T140000
DTEND;TZID=America/Chicago:20250611T150000
DTSTAMP:20260423T171837
CREATED:20250411T173848Z
LAST-MODIFIED:20250606T174818Z
UID:1372-1749650400-1749654000@gmcapmp.org
SUMMARY:CANCELED: GMC Member Benefits & Program Overview (June 2025)
DESCRIPTION:CANCELED: Please note this event is canceled. We will resume with Q3 in September. Thank you for your understanding. \nCalling all members (new and existing members)! The Greater Midwest Chapter is hosting this opportunity to share valuable information about APMP and our Chapter resources and tools available to you. Register for the webinar and join us to access industry best practices\, learn how you can get involved in our chapter\, and gain support from local members through our programs. \nhttps://events.teams.microsoft.com/event/884e8013-c435-49d3-80b5-8c07862164ac@7fd3c9b6-8fa4-4ae6-af15-e58bc06ede71
URL:https://gmcapmp.org/event/gmc-member-benefits-program-overview-june-2025/
CATEGORIES:New Member Welcome
ATTACH;FMTTYPE=image/png:https://gmcapmp.org/wp-content/uploads/2023/08/APMP-GMC-Images.png
ORGANIZER;CN="APMP GMC":MAILTO:info@gmcapmp.org
END:VEVENT
BEGIN:VEVENT
DTSTART;TZID=America/Chicago:20250311T140000
DTEND;TZID=America/Chicago:20250311T150000
DTSTAMP:20260423T171837
CREATED:20250211T144954Z
LAST-MODIFIED:20250211T145016Z
UID:1296-1741701600-1741705200@gmcapmp.org
SUMMARY:GMC Member Benefits & Program Overview: March 2025
DESCRIPTION:Calling all members (new and existing members)! The Greater Midwest Chapter is hosting this opportunity to share valuable information about APMP and our Chapter resources and tools available to you. Register for the webinar and join us to access industry best practices\, learn how you can get involved in our chapter\, and gain support from local members through our programs. \nRegister here: https://events.teams.microsoft.com/event/02e702e2-e1fa-41e8-b80e-f222ab28b4b4@7fd3c9b6-8fa4-4ae6-af15-e58bc06ede71
URL:https://gmcapmp.org/event/gmc-member-benefits-program-overview-march-2025/
CATEGORIES:New Member Welcome,Webinar
ATTACH;FMTTYPE=image/png:https://gmcapmp.org/wp-content/uploads/2023/04/APMP-GMC-Images-4.png
ORGANIZER;CN="APMP GMC":MAILTO:info@gmcapmp.org
END:VEVENT
BEGIN:VEVENT
DTSTART;TZID=America/Chicago:20241211T140000
DTEND;TZID=America/Chicago:20241211T150000
DTSTAMP:20260423T171837
CREATED:20241120T225216Z
LAST-MODIFIED:20241120T225322Z
UID:1188-1733925600-1733929200@gmcapmp.org
SUMMARY:Member Benefits & Program Overview: December 2024
DESCRIPTION:Calling all members (new and existing members)! The Greater Midwest Chapter is hosting this opportunity to share valuable information about APMP and our Chapter resources and tools available to you. Register for the webinar and join us to access industry best practices\, learn how you can get involved in our chapter\, and gain support from local members through our programs. Use this link to register: https://events.teams.microsoft.com/event/ac6b5359-5da2-4659-af64-73c8f2887359@7fd3c9b6-8fa4-4ae6-af15-e58bc06ede71 \nWant to join the event in person and meet a few of your local members? See the below hosting site and join the party! \n\nVictura Consulting | 1 S. Wacker Dr.\, Suite 3910 Chicago\, Illinois 60606\nHost: Joe Pedota (jpedota@victuraconsulting.com)\nEmail Joe if you plan on attending the in-person watch party and meet and greet!\n\nWe look forward to having you attend the event!
URL:https://gmcapmp.org/event/member-benefits-program-overview-december-2024/
CATEGORIES:New Member Welcome,Webinar
ATTACH;FMTTYPE=image/png:https://gmcapmp.org/wp-content/uploads/2023/08/APMP-GMC-Images.png
ORGANIZER;CN="APMP GMC":MAILTO:info@gmcapmp.org
END:VEVENT
BEGIN:VEVENT
DTSTART;TZID=America/Chicago:20240611T140000
DTEND;TZID=America/Chicago:20240611T150000
DTSTAMP:20260423T171837
CREATED:20240320T204718Z
LAST-MODIFIED:20240320T204718Z
UID:1010-1718114400-1718118000@gmcapmp.org
SUMMARY:New Member Welcome: June 2024
DESCRIPTION:Calling all new members (and existing members who want a refresher)! The Greater Midwest Chapter is hosting a New Member Welcome. In this meeting\, you will receive an introduction to APMP and an overview of the resources and tools available through our chapter. Register for the webinar and join us to access industry best practices\, learn how you can get involved in our chapter\, and gain support from local members through our programs. \nWant to join the event in person and meet a few of your local members? See the below hosting site and join the party! \nChicago: \n\nVictura Consulting | 1 S. Wacker Dr.\, Suite 3910 Chicago\, Illinois 60606\nHost: Joe Pedota (jpedota@victuraconsulting.com)\nInstructions: Email Joe if you plan on attending the in-person watch party and meet and greet!\n\nUse this link to register: https://events.teams.microsoft.com/event/5ee0a2a2-6a40-426a-977a-2a1cc5b02b79@7fd3c9b6-8fa4-4ae6-af15-e58bc06ede71
URL:https://gmcapmp.org/event/new-member-welcome-june2024/
CATEGORIES:New Member Welcome
ATTACH;FMTTYPE=image/png:https://gmcapmp.org/wp-content/uploads/2023/08/APMP-GMC-Images.png
ORGANIZER;CN="APMP GMC":MAILTO:info@gmcapmp.org
END:VEVENT
BEGIN:VEVENT
DTSTART;TZID=America/Chicago:20240311T140000
DTEND;TZID=America/Chicago:20240311T150000
DTSTAMP:20260423T171837
CREATED:20240215T135252Z
LAST-MODIFIED:20240215T135403Z
UID:996-1710165600-1710169200@gmcapmp.org
SUMMARY:New Member Welcome: Q1 2024
DESCRIPTION:Calling all new members (and existing members who want a refresher)! The Greater Midwest Chapter is hosting a New Member Welcome. In this meeting\, you will receive an introduction to APMP and an overview of the resources and tools available through our chapter. Register for the webinar and join us to access industry best practices\, learn how you can get involved in our chapter\, and gain support from local members through our programs. \nWe look forward to having you attend the event! Use the link below to register. \nPlease note the event time is March 11 at 2:00 – 3:00 PM CENTRAL TIME.
URL:https://gmcapmp.org/event/new-member-welcome-q1-2024/
CATEGORIES:New Member Welcome
ATTACH;FMTTYPE=image/png:https://gmcapmp.org/wp-content/uploads/2023/01/7.png
ORGANIZER;CN="APMP GMC":MAILTO:info@gmcapmp.org
END:VEVENT
BEGIN:VEVENT
DTSTART;TZID=America/Chicago:20231211T140000
DTEND;TZID=America/Chicago:20231211T150000
DTSTAMP:20260423T171837
CREATED:20231106T161800Z
LAST-MODIFIED:20231106T161837Z
UID:877-1702303200-1702306800@gmcapmp.org
SUMMARY:New Member Welcome: December 2023
DESCRIPTION:Mon\, Dec 11\, 2:00 PM – 3:00 PM (CDT) \nCalling all new members (and existing members who want a refresher)! The Greater Midwest Chapter is hosting a New Member Welcome. In this meeting\, you will receive an introduction to APMP and an overview of the resources and tools available through our chapter. Register for the webinar and join us to access industry best practices\, learn how you can get involved in our chapter\, and gain support from local members through our programs. We look forward to having you attend the event! Want to join the event in person and meet a few of your local members? See the below hosting sites and join the party! Use this link to REGISTER NOW. \nMinneapolis St. Paul:  \n\nBurns & McDonnell | 8201 Norman Center Drive\, Suite 500 Bloomington\, MN 55437\nHost: Alexa Ramsey (aramsey@gmcapmp.org)\nInstructions: Email Alexa if you plan on attending the in-person watch party and meet and greet!\n\nChicago: \n\nVictura Consulting | 1 S. Wacker Dr.\, Suite 3910 Chicago\, Illinois 60606\nHost: Joe Pedota (jpedota@victuraconsulting.com)\nInstructions: Email Joe if you plan on attending the in-person watch party and meet and greet!
URL:https://gmcapmp.org/event/new-member-welcome-december-2023/
CATEGORIES:New Member Welcome
ATTACH;FMTTYPE=image/png:https://gmcapmp.org/wp-content/uploads/2023/08/APMP-GMC-Images.png
ORGANIZER;CN="APMP GMC":MAILTO:info@gmcapmp.org
END:VEVENT
BEGIN:VEVENT
DTSTART;TZID=UTC:20230911T140000
DTEND;TZID=UTC:20230911T150000
DTSTAMP:20260423T171837
CREATED:20230821T202714Z
LAST-MODIFIED:20230821T202827Z
UID:797-1694440800-1694444400@gmcapmp.org
SUMMARY:New Member Welcome
DESCRIPTION:Calling all new members (and existing members who want a refresher)! The Greater Midwest Chapter is hosting a New Member Welcome. In this meeting\, you will receive an introduction to APMP and an overview of the resources and tools available through our chapter. Register for the webinar and join us to access industry best practices\, learn how you can get involved in our chapter\, and gain support from local members through our programs. Join us on September 11 from 2:00 to 3:00 PM Central. Register via this link.
URL:https://gmcapmp.org/event/new-member-welcome-september-2023/
CATEGORIES:New Member Welcome
ATTACH;FMTTYPE=image/png:https://gmcapmp.org/wp-content/uploads/2023/08/APMP-GMC-Images.png
END:VEVENT
END:VCALENDAR