BEGIN:VCALENDAR
VERSION:2.0
PRODID:-//APMP Greater Midwest Chapter - ECPv6.15.20//NONSGML v1.0//EN
CALSCALE:GREGORIAN
METHOD:PUBLISH
X-ORIGINAL-URL:https://gmcapmp.org
X-WR-CALDESC:Events for APMP Greater Midwest Chapter
REFRESH-INTERVAL;VALUE=DURATION:PT1H
X-Robots-Tag:noindex
X-PUBLISHED-TTL:PT1H
BEGIN:VTIMEZONE
TZID:America/Chicago
BEGIN:DAYLIGHT
TZOFFSETFROM:-0600
TZOFFSETTO:-0500
TZNAME:CDT
DTSTART:20240310T080000
END:DAYLIGHT
BEGIN:STANDARD
TZOFFSETFROM:-0500
TZOFFSETTO:-0600
TZNAME:CST
DTSTART:20241103T070000
END:STANDARD
BEGIN:DAYLIGHT
TZOFFSETFROM:-0600
TZOFFSETTO:-0500
TZNAME:CDT
DTSTART:20250309T080000
END:DAYLIGHT
BEGIN:STANDARD
TZOFFSETFROM:-0500
TZOFFSETTO:-0600
TZNAME:CST
DTSTART:20251102T070000
END:STANDARD
BEGIN:DAYLIGHT
TZOFFSETFROM:-0600
TZOFFSETTO:-0500
TZNAME:CDT
DTSTART:20260308T080000
END:DAYLIGHT
BEGIN:STANDARD
TZOFFSETFROM:-0500
TZOFFSETTO:-0600
TZNAME:CST
DTSTART:20261101T070000
END:STANDARD
END:VTIMEZONE
BEGIN:VEVENT
DTSTART;TZID=America/Chicago:20250514T120000
DTEND;TZID=America/Chicago:20250514T130000
DTSTAMP:20260424T191409
CREATED:20250414T204524Z
LAST-MODIFIED:20250417T134750Z
UID:1374-1747224000-1747227600@gmcapmp.org
SUMMARY:Webinar: Powerful Pitches
DESCRIPTION:Whether you manage a team or you’re planning professional development opportunities for yourself\, you will likely need to develop a business case for leadership approval. With leaders constantly on the go\, your message needs to be powerful\, persuasive\, and to the point! This session focuses on empowering marketing and proposal professionals with tools and strategies to advocate for your professional growth (or the teams you lead). By highlighting the importance of continuous learning and skill-building\, and getting to the point faster\, the session will explore how to make development initiatives a core part of talent management and organizational growth.\n\nRegister here: https://events.teams.microsoft.com/event/c310ca22-e7c0-4a0a-9208-7c48b88d1fb2@7fd3c9b6-8fa4-4ae6-af15-e58bc06ede71
URL:https://gmcapmp.org/event/webinar-powerful-pitches/
CATEGORIES:Webinar
ATTACH;FMTTYPE=image/png:https://gmcapmp.org/wp-content/uploads/2025/04/Screenshot-2025-04-14-164116.png
ORGANIZER;CN="APMP GMC":MAILTO:info@gmcapmp.org
END:VEVENT
END:VCALENDAR