BEGIN:VCALENDAR
VERSION:2.0
PRODID:-//APMP Greater Midwest Chapter - ECPv6.15.20//NONSGML v1.0//EN
CALSCALE:GREGORIAN
METHOD:PUBLISH
X-WR-CALNAME:APMP Greater Midwest Chapter
X-ORIGINAL-URL:https://gmcapmp.org
X-WR-CALDESC:Events for APMP Greater Midwest Chapter
REFRESH-INTERVAL;VALUE=DURATION:PT1H
X-Robots-Tag:noindex
X-PUBLISHED-TTL:PT1H
BEGIN:VTIMEZONE
TZID:America/Chicago
BEGIN:DAYLIGHT
TZOFFSETFROM:-0600
TZOFFSETTO:-0500
TZNAME:CDT
DTSTART:20240310T080000
END:DAYLIGHT
BEGIN:STANDARD
TZOFFSETFROM:-0500
TZOFFSETTO:-0600
TZNAME:CST
DTSTART:20241103T070000
END:STANDARD
BEGIN:DAYLIGHT
TZOFFSETFROM:-0600
TZOFFSETTO:-0500
TZNAME:CDT
DTSTART:20250309T080000
END:DAYLIGHT
BEGIN:STANDARD
TZOFFSETFROM:-0500
TZOFFSETTO:-0600
TZNAME:CST
DTSTART:20251102T070000
END:STANDARD
BEGIN:DAYLIGHT
TZOFFSETFROM:-0600
TZOFFSETTO:-0500
TZNAME:CDT
DTSTART:20260308T080000
END:DAYLIGHT
BEGIN:STANDARD
TZOFFSETFROM:-0500
TZOFFSETTO:-0600
TZNAME:CST
DTSTART:20261101T070000
END:STANDARD
END:VTIMEZONE
BEGIN:VEVENT
DTSTART;TZID=America/Chicago:20251007T120000
DTEND;TZID=America/Chicago:20251007T130000
DTSTAMP:20260424T023852
CREATED:20250917T204857Z
LAST-MODIFIED:20250922T133022Z
UID:1496-1759838400-1759842000@gmcapmp.org
SUMMARY:Webinar: Strategy to Win – A Fresh Take on Proposal Kickoffs
DESCRIPTION:The most effective proposal kickoffs do more than cover logistics — they ignite the strategy to win. In this session\, you’ll explore a fresh “strategy to win” approach that helps teams qualify opportunities\, align on win themes and ask better questions. You’ll leave with practical ideas to strengthen your kickoffs and set a clearer course to compete with confidence. \n\nDate: October 7\, 2025\nTime: 12-1 PM central time\nRegistration: https://events.teams.microsoft.com/event/63dda0a9-4913-46e3-b04e-b63d1aa153b4@7fd3c9b6-8fa4-4ae6-af15-e58bc06ede71\n\nAlyssa Voboril is a seasoned proposal strategist with nearly 10 years of experience leading high-impact pursuits. An APMP Practitioner-certified professional and a 2024 APMP 40 Under 40 honoree\, Alyssa co-leads an international pursuit strategy team at Baker Tilly\, the sixth largest advisory\, tax and assurance firm in the U.S. \nSilke Cole is a proposal team leader with 20+ years of experience guiding business development initiatives across industries. She holds an APMP Practitioner certification and co-leads an international pursuit strategy team at Baker Tilly.  She served on the APMP Greater Midwest Chapter board of directors from 2019 to 2022.
URL:https://gmcapmp.org/event/webinar-strategy-to-win-a-fresh-take-on-proposal-kickoffs/
CATEGORIES:Webinar
ORGANIZER;CN="APMP GMC":MAILTO:info@gmcapmp.org
END:VEVENT
END:VCALENDAR