BEGIN:VCALENDAR
VERSION:2.0
PRODID:-//APMP Greater Midwest Chapter - ECPv6.15.20//NONSGML v1.0//EN
CALSCALE:GREGORIAN
METHOD:PUBLISH
X-ORIGINAL-URL:https://gmcapmp.org
X-WR-CALDESC:Events for APMP Greater Midwest Chapter
REFRESH-INTERVAL;VALUE=DURATION:PT1H
X-Robots-Tag:noindex
X-PUBLISHED-TTL:PT1H
BEGIN:VTIMEZONE
TZID:UTC
BEGIN:STANDARD
TZOFFSETFROM:+0000
TZOFFSETTO:+0000
TZNAME:UTC
DTSTART:20250101T000000
END:STANDARD
END:VTIMEZONE
BEGIN:VEVENT
DTSTART;TZID=UTC:20260311T140000
DTEND;TZID=UTC:20260311T150000
DTSTAMP:20260425T141355
CREATED:20260126T010148Z
LAST-MODIFIED:20260227T190344Z
UID:1620-1773237600-1773241200@gmcapmp.org
SUMMARY:Webinar: Quarterly Member Benefits & Program Overview:
DESCRIPTION:Join us for our quarterly GMC Member Benefits and Program Overview. You’ll hear about the latest APMP happenings and meet the incoming 2026 GMC Board of Directors. \nThis is a great opportunity to learn about upcoming chapter initiatives and how you can get involved! \nRegistration is available here.
URL:https://gmcapmp.org/event/quarterly-member-benefits-program-overview-coming-soon/
CATEGORIES:New Member Welcome
ATTACH;FMTTYPE=image/png:https://gmcapmp.org/wp-content/uploads/2023/11/Screenshot-2023-11-03-111309.png
END:VEVENT
BEGIN:VEVENT
DTSTART;TZID=UTC:20260316T120000
DTEND;TZID=UTC:20260316T130000
DTSTAMP:20260425T141355
CREATED:20260212T165207Z
LAST-MODIFIED:20260227T181050Z
UID:1655-1773662400-1773666000@gmcapmp.org
SUMMARY:Webinar: Brevity in the Age of Warp Speed (Symposium 2025 Encore Presentation)
DESCRIPTION:Join us as Michelle Harrison presents her Symposium 2025 Encore Presentation as a webinar for our APMP GMC Chapter. \nIn the age of information overload\, the ability to communicate effectively and succinctly has never been more crucial. Explore the principles of brevity in language. Discover techniques that promote conciseness without sacrificing meaning. Registration is available here. \nSpeaker Bio: Michelle Harrison is an experienced leader in the AEC industry. As Project Capture Manager at Henderson Engineers\, she partners with technical and business development teams to shape big ideas into clear strategies and winning proposals. Michelle is also the President of the SMPS Kansas City chapter and was recognized as the 2025 SMPS Kansas City Member of the Year. In her sessions\, she provides practical tactics\, frameworks\, and actionable strategies you can use immediately.
URL:https://gmcapmp.org/event/webinar-brevity-in-the-age-of-warp-speed-symposium-2025-encore-presentation/
CATEGORIES:Webinar
ATTACH;FMTTYPE=image/jpeg:https://gmcapmp.org/wp-content/uploads/2026/02/ian-taylor-FJSospSHP74-unsplash-scaled.jpg
END:VEVENT
BEGIN:VEVENT
DTSTART;TZID=UTC:20260402T110000
DTEND;TZID=UTC:20260402T120000
DTSTAMP:20260425T141355
CREATED:20260227T180241Z
LAST-MODIFIED:20260327T193116Z
UID:1787-1775127600-1775131200@gmcapmp.org
SUMMARY:Webinar: Your Value is exponential - How to define\, articulate and leverage it to secure your seat at the table of influence and impact
DESCRIPTION:Defining\, articulating and leveraging your exponential value\nProposal Managers and Leaders often find themselves in a perpetual state of defense\, constantly having to justify their timelines\, their resources\, and their seat at the table. In this webinar\, learn how to stop being the person who simply manages the process and start being the person who influences the outcome. Stop defending your worth and start leveraging your impact. \nReserve your spot today by registering below! \nRegister\n— \nSpeaker Bio: As founder of Victorious Consulting and LoveSon Agency\, Vicky is THE Performance Architect for our challenging world of work. With 30 years in the engine room of global giants such as GSK\, Nike and Pearson\, she bridges the gap between Human Intelligence and Tech. Her “Human-First” philosophy builds the behavioral muscle needed to thrive in 2026 and beyond. Via her coaching\, training and consulting approaches\, she enables commercial leaders and managers to realize growth potential\, reframe pressure and deliver peak performance. UK-born\, Amsterdam-based\, she enables transformation and results with integrity and critical thinking for impact.  \n 
URL:https://gmcapmp.org/event/your-value-is-exponential-how-to-define-articulate-and-leverage-it-to-secure-your-seat-at-the-table-of-influence-and-impact/
CATEGORIES:Webinar
ATTACH;FMTTYPE=image/jpeg:https://gmcapmp.org/wp-content/uploads/2026/02/kaleidico-3V8xo5Gbusk-unsplash-scaled.jpg
ORGANIZER;CN="APMP GMC":MAILTO:info@gmcapmp.org
END:VEVENT
BEGIN:VEVENT
DTSTART;TZID=UTC:20260505T110000
DTEND;TZID=UTC:20260505T120000
DTSTAMP:20260425T141355
CREATED:20260327T190054Z
LAST-MODIFIED:20260327T192617Z
UID:1842-1777978800-1777982400@gmcapmp.org
SUMMARY:Webinar: Why Every Firm Needs a Capture Process
DESCRIPTION:Why Every Firm Needs a Capture Process\nResearch shows that only 30% of firms have a formal Capture process. In the inaugural episode of 5 Capture & BD Questions\, we’ll explore why Capture should be a core component of every Business Development organization. From codifying gate reviews and securing a Capture position\, to understanding how protests impact both your proposal strategy and your firm’s reputation\, this session will challenge firms to rethink how Capture fits into BD. \nAttendees will walk away with practical insights on how to embed stronger Capture discipline into everyday BD practices to improve win probability and long-term credibility. Reserve your spot today! \nRegister\n— \nSpeaker Bios  \nTaylor Hilliard\, CP APMP:\nTaylor Hilliard is a Capture Manager supporting SLED\, federal\, and international markets. She leads end‑to‑end capture efforts\, using data‑driven research\, competitive intelligence\, and partnership strategies to align pursuits with client goals and increase win probability. \nNichole Reber:\nNichole Rebar brings more than 20 years of experience across marketing\, BD\, capture\, and proposal management. She takes a strategic\, intentional approach to growth and is passionate about helping professionals see Capture and BD as impactful\, long‑term career paths.
URL:https://gmcapmp.org/event/webinar-why-every-firm-needs-a-capture-process/
CATEGORIES:Webinar
ATTACH;FMTTYPE=image/png:https://gmcapmp.org/wp-content/uploads/2023/01/13.png
END:VEVENT
BEGIN:VEVENT
DTSTART;TZID=UTC:20260527T183000
DTEND;TZID=UTC:20260527T203000
DTSTAMP:20260425T141355
CREATED:20260410T194157Z
LAST-MODIFIED:20260410T194157Z
UID:1925-1779906600-1779913800@gmcapmp.org
SUMMARY:Meetup: Chicago Metro Area
DESCRIPTION:APMP Greater Midwest Chapter – Chicago Metro Area Meetup \nLeave the deadlines behind and connect with proposal peers! Join us to network and talk shop over complimentary appetizers\, courtesy of APMP’s Greater Midwest Chapter. \nDate & Time:Wednesday\, May 27\, 20266:30 PM \nLocation:Spirit Elephant924 Green Bay RoadWinnetka\, IL 60093 \nRSVP Information:Please RSVP to lisa.borosh@gmail.com by Wednesday\, May 20\, 2026. \nAdditional Details:This meetup is open to non-members interested in learning about APMP. Feel free to bring a friend. \n 
URL:https://gmcapmp.org/event/chicagometromeetup/
LOCATION:Spirit Elephant\, 924 Green Bay Rd\, Winnetka\, IL\, 60093\, United States
CATEGORIES:Local Meetup
ATTACH;FMTTYPE=image/jpeg:https://gmcapmp.org/wp-content/uploads/2026/04/Spirit-Elephant.jpg
ORGANIZER;CN="Silke Cole":MAILTO:scole@gmcapmp.org
END:VEVENT
BEGIN:VEVENT
DTSTART;TZID=UTC:20260611T140000
DTEND;TZID=UTC:20260611T150000
DTSTAMP:20260425T141355
CREATED:20260327T175250Z
LAST-MODIFIED:20260327T192850Z
UID:1839-1781186400-1781190000@gmcapmp.org
SUMMARY:Webinar: Quarterly Member Benefits & Program Overview
DESCRIPTION:Join your fellow APMP GMC members for our Quarterly Member Benefits & Program Overview!\nCalling all members (new and existing) to attend this Greater Midwest Chapter webinar. We’re hosting this opportunity for you to: \n\nHear from your 2026 Chapter Board\nGet to know other members on the call\nLearn about valuable programs available from APMP and our Chapter\nAccess industry best practices and gain support from local members through our programs\nSee how you can get connected to maximize your membership and earn CEUs for certifications\n\nRegister below to add this to your calendar. \nRegister\n 
URL:https://gmcapmp.org/event/webinar-quarterly-member-benefits-program-overview/
CATEGORIES:New Member Welcome
ATTACH;FMTTYPE=image/png:https://gmcapmp.org/wp-content/uploads/2024/08/High-five.png
END:VEVENT
BEGIN:VEVENT
DTSTART;VALUE=DATE:20260805
DTEND;VALUE=DATE:20260807
DTSTAMP:20260425T141355
CREATED:20260126T014837Z
LAST-MODIFIED:20260227T190346Z
UID:1644-1785888000-1786060799@gmcapmp.org
SUMMARY:Event: APMP GMC Symposium 2026
DESCRIPTION:Join us for APMP GMC Symposium 2026 at the beautiful Journeyman Hotel in Milwaukee\, Wisconsin. It’s a two-day learning and networking event you won’t want to miss!
URL:https://gmcapmp.org/event/apmp-gmc-symposium-2026/
CATEGORIES:Conference
ATTACH;FMTTYPE=image/jpeg:https://gmcapmp.org/wp-content/uploads/2026/01/matthew-schultz-5eO3_mq5v_A-unsplash-scaled.jpg
END:VEVENT
END:VCALENDAR