BEGIN:VCALENDAR
VERSION:2.0
PRODID:-//APMP Greater Midwest Chapter - ECPv6.15.20//NONSGML v1.0//EN
CALSCALE:GREGORIAN
METHOD:PUBLISH
X-WR-CALNAME:APMP Greater Midwest Chapter
X-ORIGINAL-URL:https://gmcapmp.org
X-WR-CALDESC:Events for APMP Greater Midwest Chapter
REFRESH-INTERVAL;VALUE=DURATION:PT1H
X-Robots-Tag:noindex
X-PUBLISHED-TTL:PT1H
BEGIN:VTIMEZONE
TZID:UTC
BEGIN:STANDARD
TZOFFSETFROM:+0000
TZOFFSETTO:+0000
TZNAME:UTC
DTSTART:20220101T000000
END:STANDARD
END:VTIMEZONE
BEGIN:VTIMEZONE
TZID:America/Indiana/Indianapolis
BEGIN:DAYLIGHT
TZOFFSETFROM:-0500
TZOFFSETTO:-0400
TZNAME:EDT
DTSTART:20220313T070000
END:DAYLIGHT
BEGIN:STANDARD
TZOFFSETFROM:-0400
TZOFFSETTO:-0500
TZNAME:EST
DTSTART:20221106T060000
END:STANDARD
BEGIN:DAYLIGHT
TZOFFSETFROM:-0500
TZOFFSETTO:-0400
TZNAME:EDT
DTSTART:20230312T070000
END:DAYLIGHT
BEGIN:STANDARD
TZOFFSETFROM:-0400
TZOFFSETTO:-0500
TZNAME:EST
DTSTART:20231105T060000
END:STANDARD
BEGIN:DAYLIGHT
TZOFFSETFROM:-0500
TZOFFSETTO:-0400
TZNAME:EDT
DTSTART:20240310T070000
END:DAYLIGHT
BEGIN:STANDARD
TZOFFSETFROM:-0400
TZOFFSETTO:-0500
TZNAME:EST
DTSTART:20241103T060000
END:STANDARD
END:VTIMEZONE
BEGIN:VTIMEZONE
TZID:America/New_York
BEGIN:DAYLIGHT
TZOFFSETFROM:-0500
TZOFFSETTO:-0400
TZNAME:EDT
DTSTART:20220313T070000
END:DAYLIGHT
BEGIN:STANDARD
TZOFFSETFROM:-0400
TZOFFSETTO:-0500
TZNAME:EST
DTSTART:20221106T060000
END:STANDARD
BEGIN:DAYLIGHT
TZOFFSETFROM:-0500
TZOFFSETTO:-0400
TZNAME:EDT
DTSTART:20230312T070000
END:DAYLIGHT
BEGIN:STANDARD
TZOFFSETFROM:-0400
TZOFFSETTO:-0500
TZNAME:EST
DTSTART:20231105T060000
END:STANDARD
BEGIN:DAYLIGHT
TZOFFSETFROM:-0500
TZOFFSETTO:-0400
TZNAME:EDT
DTSTART:20240310T070000
END:DAYLIGHT
BEGIN:STANDARD
TZOFFSETFROM:-0400
TZOFFSETTO:-0500
TZNAME:EST
DTSTART:20241103T060000
END:STANDARD
END:VTIMEZONE
BEGIN:VTIMEZONE
TZID:America/New_York
BEGIN:DAYLIGHT
TZOFFSETFROM:-0500
TZOFFSETTO:-0400
TZNAME:EDT
DTSTART:20220313T070000
END:DAYLIGHT
BEGIN:STANDARD
TZOFFSETFROM:-0400
TZOFFSETTO:-0500
TZNAME:EST
DTSTART:20221106T060000
END:STANDARD
BEGIN:DAYLIGHT
TZOFFSETFROM:-0500
TZOFFSETTO:-0400
TZNAME:EDT
DTSTART:20230312T070000
END:DAYLIGHT
BEGIN:STANDARD
TZOFFSETFROM:-0400
TZOFFSETTO:-0500
TZNAME:EST
DTSTART:20231105T060000
END:STANDARD
BEGIN:DAYLIGHT
TZOFFSETFROM:-0500
TZOFFSETTO:-0400
TZNAME:EDT
DTSTART:20240310T070000
END:DAYLIGHT
BEGIN:STANDARD
TZOFFSETFROM:-0400
TZOFFSETTO:-0500
TZNAME:EST
DTSTART:20241103T060000
END:STANDARD
END:VTIMEZONE
BEGIN:VEVENT
DTSTART;TZID=UTC:20230911T140000
DTEND;TZID=UTC:20230911T150000
DTSTAMP:20260425T233719
CREATED:20230821T202714Z
LAST-MODIFIED:20230821T202827Z
UID:797-1694440800-1694444400@gmcapmp.org
SUMMARY:New Member Welcome
DESCRIPTION:Calling all new members (and existing members who want a refresher)! The Greater Midwest Chapter is hosting a New Member Welcome. In this meeting\, you will receive an introduction to APMP and an overview of the resources and tools available through our chapter. Register for the webinar and join us to access industry best practices\, learn how you can get involved in our chapter\, and gain support from local members through our programs. Join us on September 11 from 2:00 to 3:00 PM Central. Register via this link.
URL:https://gmcapmp.org/event/new-member-welcome-september-2023/
CATEGORIES:New Member Welcome
ATTACH;FMTTYPE=image/png:https://gmcapmp.org/wp-content/uploads/2023/08/APMP-GMC-Images.png
END:VEVENT
BEGIN:VEVENT
DTSTART;TZID=America/Indiana/Indianapolis:20230713T120000
DTEND;TZID=America/Indiana/Indianapolis:20230713T123000
DTSTAMP:20260425T233719
CREATED:20230622T141927Z
LAST-MODIFIED:20230622T142450Z
UID:773-1689249600-1689251400@gmcapmp.org
SUMMARY:Webinar: Navigating the World of RFP Portals
DESCRIPTION:Please register for this free session on navigating the world of RFP portals on July 13 at 12:00 PM ET. In this session\, you will learn: \nHow to avoid common mistakes\nHow to set yourself up for a successful submission\nTips and tricks to make life easier\n  \nJennifer Dunlap is an accomplished proposal manager who is well-versed in writing and editing responses. She has the ability to consistently produce quality results in a fast-paced environment\, prioritizing appropriately to manage multiple quick turnaround projects simultaneously. She currently supports sales at TTEC Digital\, which is a full-service Customer Experience (CX) consulting and solution provider focused on helping organizations create better experiences for their customers. Jennifer became certified at the foundation level in 2021 and is studying to take the practitioner level exam this year. She has been a proposal manager for more than four years. She works remotely from Indianapolis\, IN and is single with three cats: Gabriel\, Siobhan and Sophie. Enjoys hiking\, going to movies\, attending concerts and reading. Has been a member of her fabulous book club for 15+ years.
URL:https://gmcapmp.org/event/webinar-navigating-rfp-portals/
CATEGORIES:Webinar
ATTACH;FMTTYPE=image/jpeg:https://gmcapmp.org/wp-content/uploads/2023/06/macbook-606763_1280.jpg
ORGANIZER;CN="APMP GMC":MAILTO:info@gmcapmp.org
END:VEVENT
BEGIN:VEVENT
DTSTART;TZID=America/New_York:20230608T100000
DTEND;TZID=America/New_York:20230608T110000
DTSTAMP:20260425T233719
CREATED:20230531T192319Z
LAST-MODIFIED:20230531T192319Z
UID:765-1686218400-1686222000@gmcapmp.org
SUMMARY:APMP MidSouth Webinar: Self-Scoring Proposals
DESCRIPTION:Hi GMC! Join our friends in the APMP MidSouth chapter for a webinar on Thursday\, June 8 at 10AM CT/11 AM ET. Ab Vand from GDI Consulting will be discussing self-scoring proposals\, which have become a frequent model in the federal sector. Register for this FREE webinar now!
URL:https://gmcapmp.org/event/apmp-midsouth-webinar-self-scoring-proposals/
CATEGORIES:Webinar
END:VEVENT
BEGIN:VEVENT
DTSTART;VALUE=DATE:20230531
DTEND;VALUE=DATE:20230601
DTSTAMP:20260425T233719
CREATED:20230210T221243Z
LAST-MODIFIED:20230419T023930Z
UID:487-1685491200-1685577599@gmcapmp.org
SUMMARY:Certification Study Group - Eligibility Deadline
DESCRIPTION:If you’re a participant in a 2023 Certification Study Group\, eligibility requirements must be met by May 31.
URL:https://gmcapmp.org/event/certification-study-group-applications-due/
ATTACH;FMTTYPE=image/png:https://gmcapmp.org/wp-content/uploads/2023/01/15.png
ORGANIZER;CN="Lindsay Lange":MAILTO:llange@gmcapmp.org
END:VEVENT
BEGIN:VEVENT
DTSTART;TZID=America/New_York:20230521T200000
DTEND;TZID=America/New_York:20230521T210000
DTSTAMP:20260425T233719
CREATED:20230517T160704Z
LAST-MODIFIED:20230517T161959Z
UID:746-1684699200-1684702800@gmcapmp.org
SUMMARY:APMP BPC Orlando Member Drinks
DESCRIPTION:Greater Midwest Chapter members attending APMP Bid & Proposal Con\, come join us for drinks at the Hyatt Grand Cypress Lobby Bar from 8-9PM Eastern! One drink covered on us! \nAfter the regi-ception\, head to the Lobby Bar and find familiar chapter faces including Chapter President Megan Kean and Chapter VP Alexa Ramsey to get you a beverage of your choice.
URL:https://gmcapmp.org/event/apmp-bpc-orlando-member-drinks/
LOCATION:Hyatt Regency Grand Cypress Resort\, One Grand Cypress Blvd\, Orlando\, FL\, 32836\, United States
CATEGORIES:Conference
ATTACH;FMTTYPE=image/jpeg:https://gmcapmp.org/wp-content/uploads/2023/05/APMP-BPC-GMC-Member-Drinks.jpg
ORGANIZER;CN="Alexa Ramsey":MAILTO:aramsey@gmcapmp.org
END:VEVENT
BEGIN:VEVENT
DTSTART;VALUE=DATE:20230521
DTEND;VALUE=DATE:20230525
DTSTAMP:20260425T233719
CREATED:20230204T172437Z
LAST-MODIFIED:20230517T155503Z
UID:453-1684627200-1684972799@gmcapmp.org
SUMMARY:APMP BPC Orlando Exhibit (Booth #45)
DESCRIPTION:Join us for our second year at APMP Bid & Proposal Con (BPC) in Orlando\, Florida! Stop by and say hello\, get some Greater Midwest Chapter swag and have a chance to get on an upcoming Shortlisted episode.
URL:https://gmcapmp.org/event/apmp-bpc-orlando-exhibit/
LOCATION:Hyatt Regency Grand Cypress Resort\, One Grand Cypress Blvd\, Orlando\, FL\, 32836\, United States
ATTACH;FMTTYPE=image/png:https://gmcapmp.org/wp-content/uploads/2023/02/APMP-GMC-Images-3.png
ORGANIZER;CN="Alexa Ramsey":MAILTO:aramsey@gmcapmp.org
END:VEVENT
BEGIN:VEVENT
DTSTART;VALUE=DATE:20230217
DTEND;VALUE=DATE:20230218
DTSTAMP:20260425T233719
CREATED:20230210T220753Z
LAST-MODIFIED:20230210T220753Z
UID:484-1676592000-1676678399@gmcapmp.org
SUMMARY:Mentorship Program - Applications Due
DESCRIPTION:We are excited to announce the launch of our 2023 Mentorship Program to support the growth and development of our chapter members. Ready to join? Submit your application by February 17\, 2023!   \nKey Dates  \n\nFebruary 17\, 2023: Applications Due \nMarch 3\, 2023: Program Kickoff (webinar) \nMarch – December 2023: mentor/mentee pairs meet  
URL:https://gmcapmp.org/event/mentorship-program-applications-due/
CATEGORIES:Mentorship
ORGANIZER;CN="Karin Olson Held":MAILTO:kolsonheld@gmcapmp.org
END:VEVENT
END:VCALENDAR