BEGIN:VCALENDAR
VERSION:2.0
PRODID:-//APMP Greater Midwest Chapter - ECPv6.15.20//NONSGML v1.0//EN
CALSCALE:GREGORIAN
METHOD:PUBLISH
X-ORIGINAL-URL:https://gmcapmp.org
X-WR-CALDESC:Events for APMP Greater Midwest Chapter
REFRESH-INTERVAL;VALUE=DURATION:PT1H
X-Robots-Tag:noindex
X-PUBLISHED-TTL:PT1H
BEGIN:VTIMEZONE
TZID:UTC
BEGIN:STANDARD
TZOFFSETFROM:+0000
TZOFFSETTO:+0000
TZNAME:UTC
DTSTART:20240101T000000
END:STANDARD
END:VTIMEZONE
BEGIN:VEVENT
DTSTART;TZID=UTC:20250129T080000
DTEND;TZID=UTC:20250129T170000
DTSTAMP:20260425T212315
CREATED:20241206T135742Z
LAST-MODIFIED:20241206T141242Z
UID:1208-1738137600-1738170000@gmcapmp.org
SUMMARY:2025 Leadership Conference
DESCRIPTION:Drive Your Leadership Capabilities at the APMP’s Second Worldwide Online Leadership Conference for Winning Business Professionals\nSecure your seat for the first\, best\, and only online Leadership Conference for bid and proposal professionals presented by APMP. The objectives of APMP’s Leadership Conference are: \n\nThe world’s best experts on leadership\, many of them authors\, will teach you how to learn about your leadership capabilities and how to use your self-awareness to become a successful Leader.\nDrive leadership capabilities – key skills and best behaviors – into the profession and directly through the association to inspire and develop the next generation of bid and proposal leaders.\nLearn external\, real-world leadership perspectives\, insights\, and methodologies while strongly identifying with the association and profession.\n\nThis conference will give you an inspirational purpose to become a leader or hone your current leadership skills. Click the Register button below to start your education on leadership in the bid and proposal journey. \nAll conference sessions will be recorded and available on APMP TV for 30 days after the date of the event.
URL:https://gmcapmp.org/event/2025-leadership-conference/
CATEGORIES:Conference
ATTACH;FMTTYPE=image/png:https://gmcapmp.org/wp-content/uploads/2024/12/Screenshot-2024-12-06-084910.png
END:VEVENT
END:VCALENDAR