BEGIN:VCALENDAR
VERSION:2.0
PRODID:-//APMP Greater Midwest Chapter - ECPv6.15.20//NONSGML v1.0//EN
CALSCALE:GREGORIAN
METHOD:PUBLISH
X-ORIGINAL-URL:https://gmcapmp.org
X-WR-CALDESC:Events for APMP Greater Midwest Chapter
REFRESH-INTERVAL;VALUE=DURATION:PT1H
X-Robots-Tag:noindex
X-PUBLISHED-TTL:PT1H
BEGIN:VTIMEZONE
TZID:UTC
BEGIN:STANDARD
TZOFFSETFROM:+0000
TZOFFSETTO:+0000
TZNAME:UTC
DTSTART:20240101T000000
END:STANDARD
END:VTIMEZONE
BEGIN:VEVENT
DTSTART;TZID=UTC:20250518T080000
DTEND;TZID=UTC:20250521T170000
DTSTAMP:20260425T152345
CREATED:20241206T140454Z
LAST-MODIFIED:20241206T141132Z
UID:1224-1747555200-1747846800@gmcapmp.org
SUMMARY:2025 BPC Nashville
DESCRIPTION:BPC is the world’s largest in-person conference for bid\, proposal\, tender\, capture\, business development\, and graphics professionals. Professionals attend to gain industry education\, certification\, the company of like-minded professionals\, and the largest networking event anywhere. The BPC in the United States is APMP’s flagship event. \n\nHands-on education & certification\nInspiring content from the industry’s leading professionals\, companies\, and keynote speakers\nCritical\, team building\, and networking opportunities\n\nAttendees represent professionals from all industries\, including government and business sectors.
URL:https://gmcapmp.org/event/2025-bpc-nashville/
CATEGORIES:Conference
ATTACH;FMTTYPE=image/png:https://gmcapmp.org/wp-content/uploads/2024/12/Screenshot-2024-12-06-085415.png
END:VEVENT
END:VCALENDAR